BEGIN:VCALENDAR
VERSION:2.0
PRODID:Events Booking
BEGIN:VEVENT
UID:69ed14c797aa6
SUMMARY:**בוטל** תצפית שטח 10/9/2021
DESCRIPTION:הצטרפו למתנדבי האגודה הישראלית לא
 סטרונומיה לחוויה בלתי נשכחת - לילה קסום 
 תחת השמיים ואלפי כוכבים.
 במהלך הלילה יו
 עברו הסברים על השמיים ועל קבוצות הכוכבים
 \, נשמע סיפורי מיתולוגיה מעניינים. נצפה 
 בכוכבי לכת\, ערפיליות\, גלקסיות\, צבירים\, 
 כוכבים כפולים\, שביל החלב ועוד.
 התצפית מ
 יועדת לנרשמים מראש\, המגיעים באוטובוס של 
 האגודה\, בלבד. אין צורך בציוד אסטרונומי א
 ו בידע מוקדם.
DTSTART:20210910T120000Z
DTEND:20210911T050000Z
DTSTAMP:20260425T192351Z
ORGANIZER;CN=האגודה הישראלית לאסטרונומיה:MAILTO:ob
 servations@astronomy.org.il
END:VEVENT
END:VCALENDAR