BEGIN:VCALENDAR
VERSION:2.0
PRODID:Events Booking
BEGIN:VEVENT
UID:69e718767d4de
SUMMARY:תצפית שטח 3/5/2019
DESCRIPTION:
 הצטרפו למתנדבי האגודה הישראלית ל
 אסטרונומיה לחוויה בלתי נשכחת - לילה קסום
  תחת שמי האביב ואלפי כוכבים.
 
 במהלך הלי
 לה יועברו הסברים על השמיים ועל קבוצות הכ
 וכבים\, נשמע סיפורי מיתולוגיה מעניינים. 
 נצפה בכוכבי לכת\, ערפיליות\, גלקסיות\, צבי
 רים\, כוכבים כפולים\, שביל החלב ועוד...
 אי
 ן צורך בציוד אסטרונומי או בידע מוקדם.
DTSTART:20190503T120000Z
DTEND:20190504T050000Z
DTSTAMP:20260421T062558Z
ORGANIZER;CN=האגודה הישראלית לאסטרונומיה:MAILTO:ob
 servations@astronomy.org.il
END:VEVENT
END:VCALENDAR