BEGIN:VCALENDAR
VERSION:2.0
PRODID:Events Booking
BEGIN:VEVENT
UID:69e8a0c2ba538
SUMMARY:אירוע שבוע החלל הישראלי 30/1/2020 במצפה ה
 כוכבים גבעתיים
DESCRIPTION:לרגל אירועי שבוע החלל הישראלי\, נקי
 ים במצפה הכוכבים גבעתיים תצפית טלסקופים 
 בשמי הלילה\, הרצאה על שמי החורף ופעילות ב
 רחבת המצפה.
 האירוע מתאים לכל המשפחה אך מ
 ומלץ לילדים מגיל 8 ומעלה.
 הכניסה לאירוע 
 שבוע החלל הישראלי חופשית.
 ניתן להגיע מי
 די חצי שעה החל מ-19:30 ועד 21:30.
 הרשמה בקישור
 
  
 במקרה של גשם תתקיים פעילות מצומצמת ב
 תוך המבנה והרצאה בלבד (ללא תצפית טלסקופי
 ם).
  
 קישור לאירועי שבוע החלל הישראלי ב
 אתר משרד המדע והטכנולוגיה -
 https://www.space.gov.
 il/israeli-space-week 
  
LOCATION:Ha-Meri Street 66\, Givatayim\, Israel
DTSTART:20200130T173000Z
DTEND:20200130T193000Z
DTSTAMP:20260422T101946Z
ORGANIZER;CN=האגודה הישראלית לאסטרונומיה:MAILTO:ob
 servations@astronomy.org.il
GEO:32.070509;34.815134
X-APPLE-STRUCTURED-LOCATION;VALUE=URI;X-ADDRESS=Ha-Meri Street 66\, Givatay
 im\, Israel;X-APPLE-RADIUS=72;X-TITLE=מצפה הכוכבים גבעתיי
 ם:32.070509;34.815134
END:VEVENT
END:VCALENDAR