BEGIN:VCALENDAR
VERSION:2.0
PRODID:Events Booking
BEGIN:VEVENT
UID:69e60dea44d85
SUMMARY:הרצאה של פרופ' דן שכטמן - זוכה פרס נוב
 ל לכימיה
DESCRIPTION:
LOCATION:Ha-Meri Street 66\, Givatayim\, Israel
DTSTART:20210610T183000Z
DTEND:20210610T200000Z
DTSTAMP:20260420T112842Z
ORGANIZER;CN=האגודה הישראלית לאסטרונומיה:MAILTO:ob
 servations@astronomy.org.il
GEO:32.070509;34.815134
X-APPLE-STRUCTURED-LOCATION;VALUE=URI;X-ADDRESS=Ha-Meri Street 66\, Givatay
 im\, Israel;X-APPLE-RADIUS=72;X-TITLE=מצפה הכוכבים גבעתיי
 ם:32.070509;34.815134
END:VEVENT
END:VCALENDAR