BEGIN:VCALENDAR
VERSION:2.0
PRODID:Events Booking
BEGIN:VEVENT
UID:69e888c79af5f
SUMMARY:מופע פלנטריום: כוכב הלכת צדק
DESCRIPTION:תקציר:
 
 כוכב הלכת צדק - מלך האלים 
 במיתולוגיה הרומית\, וכוכב הלכת הגדול ביו
 תר במערכת השמש שלנו. במופע נלמד איך לזהו
 ת אותו בעצמנו בשמי הלילה ונראה כמה מהירח
 ים המיוחדים הסובבים אותו. כמו כן\, נחקור 
 את מזג האוויר הסוער שלו\, וננסה להבין את 
 החשיבות שלו בתולדות חקר האסטרונומיה.
 לא
 חר המופע תתקיים תצפית טלסקופים - בכפוף לת
 נאי מזג האוויר.
 
 המופע מתאים לגילאי 11+.

  
  
 המופע מועבר ע\"י נדב רוטנברג - יו\"ר ה
 אגודה הישראלית לאסטרונומיה.
 
 עלות:
 מח
 יר המופע - 35 ₪.
 הכניסה לחברי האגודה הישר
 אלית לאסטרונומיה - חינם\, בהרשמה מראש כאן.
 
 ההרשמה לא מופיעה? התחברו כאן לחשבונכם כ
 אן
 לקהל הרחב: רכישת כרטיסים מראש כאן או 
 בטלפון 09-9597330 (בשעות פעילות פלנתניה).
LOCATION:Sugihara 1\, Netanya\, Israel
DTSTART:20250305T180000Z
DTEND:20250305T190000Z
DTSTAMP:20210930T044140Z
ORGANIZER;CN=האגודה הישראלית לאסטרונומיה:MAILTO:ob
 servations@astronomy.org.il
GEO:32.314277;34.848561
X-APPLE-STRUCTURED-LOCATION;VALUE=URI;X-ADDRESS=Sugihara 1\, Netanya\, Isra
 el;X-APPLE-RADIUS=72;X-TITLE=פלנתניה:32.314277;34.848561
END:VEVENT
END:VCALENDAR