BEGIN:VCALENDAR
VERSION:2.0
PRODID:Events Booking
BEGIN:VEVENT
UID:69e889340f136
SUMMARY:תחרות ציורים ושירים ילדים.ות בנושא מ
 שימת רקיע
DESCRIPTION:אוהבים חלל? עוקבים אחרי משימת רקיע?
  זו ההזדמנות להיות יצירתיים.
 האגודה היש
 ראלית לאסטרונומיה מזמינה ילדים.ות בגילא
 י 4-12 להשתתף בתחרות ציורי ושירי חלל נושאת 
 פרסים.
 ציירו ציור או כיתבו שיר לאיתן סטי
 בה - האסטרונאוט הישראלי השני בחלל.
DTSTART:20220409T073000Z
DTEND:20220519T205500Z
DTSTAMP:20260422T083916Z
ORGANIZER;CN=האגודה הישראלית לאסטרונומיה:MAILTO:ob
 servations@astronomy.org.il
END:VEVENT
END:VCALENDAR