BEGIN:VCALENDAR
VERSION:2.0
PRODID:Events Booking
BEGIN:VEVENT
UID:69ebf1ab55f30
SUMMARY:הרצאה: הקוד של היקום
DESCRIPTION:מרצה:
 ד\"ר נועם חי - אוניברסיטת תל א
 ביב.
 תקציר:
 בהרצאה זו נצא למסע בעקבות ג
 ילוי \"הקוד של היקום\" – משוואה אחת המתארת
  את כל החלקיקים הנצפים בטבע. נתחיל בעקרון
  פרמה באופטיקה הקלאסית\, נבחן את הפילוסופ
 יות\, הרעיונות ולעיתים גם הטעויות שהוביל
 ו את החוקרים\, ונעמיק בעקרונות כמו סימטרי
 ה וחוקי שימור. נראה כיצד רעיונות אלה השתל
 בו במכניקת הקוונטים והובילו לפיתוח המוד
 ל הסטנדרטי של החלקיקים. בסיום ההרצאה נסק
 ור כיווני מחקר עדכניים\, כולל התמודדות עם
  תעלומות כמו חומר אפל\, אנרגיה אפלה וכוח ה
 כבידה\, ונשאל האם המרחב-זמן הוא אכן יסוד ק
 יומי\, או אולי רק ביטוי לעיקרון עמוק ונסת
 ר יותר?
  
LOCATION:Ha-Meri Street 66\, Givatayim\, Israel
DTSTART:20250529T180000Z
DTEND:20250529T193000Z
DTSTAMP:20260424T224147Z
ORGANIZER;CN=האגודה הישראלית לאסטרונומיה:MAILTO:ob
 servations@astronomy.org.il
GEO:32.070509;34.815134
X-APPLE-STRUCTURED-LOCATION;VALUE=URI;X-ADDRESS=Ha-Meri Street 66\, Givatay
 im\, Israel;X-APPLE-RADIUS=72;X-TITLE=מצפה הכוכבים גבעתיי
 ם:32.070509;34.815134
END:VEVENT
END:VCALENDAR