BEGIN:VCALENDAR
VERSION:2.0
PRODID:Events Booking
BEGIN:VEVENT
UID:69e6731563e78
SUMMARY: הרצאה: גלים גרביטציוניים: עבר\, הווה 
 ועתיד
DESCRIPTION:מרצה: ד\"ר אופק בירנהולץ - אוניברסיט
 ת בר אילן.
 תקציר: ב-2015\, 100 שנים אחרי פרסום
  תורת היחסות הכללית של איינשטיין\, הושלמה
  מדידת התחזית האחרונה שלו: מדידה ישירה של
  גלים גרביטציוניים מהתמזגות זוג חורים שח
 ורים. מאז הושלמו 3 תקופות תצפית של הגלאים
  LIGO\, VIRGO ואחרים - בהן זוהו קרוב ל 100 התמזגו
 יות של חורים שחורים וגם של כוכבי ניוטרונ
 ים. נדבר על מה הם גלים גרביטציוניים\, איך 
 אנו מודדים אותם\, מה למדנו באמצעותם עד הי
 ום ומה צפוי בהמשך.
 
 
  
 
 
LOCATION:Ha-Meri Street 66\, Givatayim\, Israel
DTSTART:20220707T183000Z
DTEND:20220707T200000Z
DTSTAMP:20260420T184021Z
ORGANIZER;CN=האגודה הישראלית לאסטרונומיה:MAILTO:ob
 servations@astronomy.org.il
GEO:32.070509;34.815134
X-APPLE-STRUCTURED-LOCATION;VALUE=URI;X-ADDRESS=Ha-Meri Street 66\, Givatay
 im\, Israel;X-APPLE-RADIUS=72;X-TITLE=מצפה הכוכבים גבעתיי
 ם:32.070509;34.815134
END:VEVENT
END:VCALENDAR