BEGIN:VCALENDAR
VERSION:2.0
PRODID:Events Booking
BEGIN:VEVENT
UID:69e78188e1555
SUMMARY:הרצאה: \"כוכבים נופלים - מטר המטאורים 
 פרסאידים\"
DESCRIPTION:
DTSTART:20210729T183000Z
DTEND:20210729T200000Z
DTSTAMP:20260421T135416Z
ORGANIZER;CN=האגודה הישראלית לאסטרונומיה:MAILTO:ob
 servations@astronomy.org.il
END:VEVENT
END:VCALENDAR