BEGIN:VCALENDAR
VERSION:2.0
PRODID:Events Booking
BEGIN:VEVENT
UID:69e7a656c64a6
SUMMARY: הרצאה: מיזוג של כוכבי ניוטרונים ומער
 ך הטלסקופים הגדול
DESCRIPTION:מרצה:
 פרופ' ערן אופק - מכון וייצמן 
 למדע
  
 תקציר:
 
 
 בדרום הנגב הישראלי נ
 בנה בימים אלו טלסקופ חדש בשם מערך הטלסקו
 פים הסורקים הגדול (THE LARGE ARRAY SURVEY TELESCOPE) או 
 בקיצור LAST. למערכת החדשה תהיה יכולת סריקת 
 נפח של היקום ליחידת זמן הגדולה פי 4 מכל טל
 סקופ אחר על כדור הארץ. ההרצאה תעסוק במוטי
 בציה לבניית המערכת\, והעצמים שאותם היא תח
 קור. זוהי הזדמנות נדירה לשמוע על עתיד המח
 קר האסטרונומי בארץ עוד בתהליך ההקמה של ה
 מצפה.
  
  
 
 
LOCATION:Ha-Meri Street 66\, Givatayim\, Israel
DTSTART:20230420T183000Z
DTEND:20230420T200000Z
DTSTAMP:20260421T163118Z
ORGANIZER;CN=האגודה הישראלית לאסטרונומיה:MAILTO:ob
 servations@astronomy.org.il
GEO:32.070509;34.815134
X-APPLE-STRUCTURED-LOCATION;VALUE=URI;X-ADDRESS=Ha-Meri Street 66\, Givatay
 im\, Israel;X-APPLE-RADIUS=72;X-TITLE=מצפה הכוכבים גבעתיי
 ם:32.070509;34.815134
END:VEVENT
END:VCALENDAR